BEGIN:VCALENDAR
PRODID:-//eluceo/ical//2.0/EN
VERSION:2.0
CALSCALE:GREGORIAN
BEGIN:VEVENT
UID:68834d859105c40ab964c36984618362
DTSTAMP:20260420T132112Z
SUMMARY:Besuch Partnerhunde Österreich in Weitwörth
DESCRIPTION:
URL:https://salzburg.rotaract.at/bs/agenda/show/137849
DTSTART;TZID=Europe/Zurich:20250403T190000
DTEND;TZID=Europe/Zurich:20250403T210000
LOCATION:Weitwörth
CATEGORIES:Rotaract
END:VEVENT
BEGIN:VTIMEZONE
TZID:Europe/Zurich
BEGIN:DAYLIGHT
DTSTART:20250403T190000
TZNAME:CEST
TZOFFSETTO:+0200
TZOFFSETFROM:+0200
END:DAYLIGHT
END:VTIMEZONE
END:VCALENDAR
